BEGIN:VCALENDAR
VERSION:2.0
PRODID:Imitheme.com
BEGIN:VEVENT
UID:20260424T121733-1551056914
DTSTAMP;TZID=UTC:1777033053
DTSTART;TZID=America/Los_Angeles:20260424T121733
DTEND;TZID=America/Los_Angeles:20260424T121733
SUMMARY:Varjenje
LOCATION:Gabrsko 12
DESCRIPTION: Varjenje Izobraževanje začnemo s teoretičnimi osnovami o varjenju, ki jih mora poznati vsakdo, ki se poda v to delo. Sledijo praktična izobraževanja, na katerih boste varili s postopki MIG, TIG in obločnega varjenja. Na koncu bo vsakdo izbral ustrezne materiale za varjenje, jih pripravil in zavaril trajno in kvalitetno. Tečaj poteka v torek in četrtek.https://zpi.si/delavnica/varjenje/
URL:https://zpi.si/delavnica/varjenje/
END:VEVENT
END:VCALENDAR
